BEGIN:VCALENDAR
VERSION:2.0
PRODID:-//Oakland Bloom - ECPv6.15.20//NONSGML v1.0//EN
CALSCALE:GREGORIAN
METHOD:PUBLISH
X-WR-CALNAME:Oakland Bloom
X-ORIGINAL-URL:https://oaklandbloom.org
X-WR-CALDESC:Events for Oakland Bloom
REFRESH-INTERVAL;VALUE=DURATION:PT1H
X-Robots-Tag:noindex
X-PUBLISHED-TTL:PT1H
BEGIN:VTIMEZONE
TZID:America/Los_Angeles
BEGIN:DAYLIGHT
TZOFFSETFROM:-0800
TZOFFSETTO:-0700
TZNAME:PDT
DTSTART:20250309T100000
END:DAYLIGHT
BEGIN:STANDARD
TZOFFSETFROM:-0700
TZOFFSETTO:-0800
TZNAME:PST
DTSTART:20251102T090000
END:STANDARD
BEGIN:DAYLIGHT
TZOFFSETFROM:-0800
TZOFFSETTO:-0700
TZNAME:PDT
DTSTART:20260308T100000
END:DAYLIGHT
BEGIN:STANDARD
TZOFFSETFROM:-0700
TZOFFSETTO:-0800
TZNAME:PST
DTSTART:20261101T090000
END:STANDARD
BEGIN:DAYLIGHT
TZOFFSETFROM:-0800
TZOFFSETTO:-0700
TZNAME:PDT
DTSTART:20270314T100000
END:DAYLIGHT
BEGIN:STANDARD
TZOFFSETFROM:-0700
TZOFFSETTO:-0800
TZNAME:PST
DTSTART:20271107T090000
END:STANDARD
END:VTIMEZONE
BEGIN:VEVENT
DTSTART;TZID=America/Los_Angeles:20260425T130000
DTEND;TZID=America/Los_Angeles:20260425T160000
DTSTAMP:20260423T053619
CREATED:20260413T202435Z
LAST-MODIFIED:20260413T202435Z
UID:4283-1777122000-1777132800@oaklandbloom.org
SUMMARY:Spring Mahjong with The Mahjong Project
DESCRIPTION:
URL:https://oaklandbloom.org/event/spring-mahjong-with-the-mahjong-project/
LOCATION:Open Test Kitchen\, 528 8th St.\, Oakland\, CA\, 94607\, United States
END:VEVENT
END:VCALENDAR